BEGIN:VCALENDAR
VERSION:2.0
PRODID:-//Amersham Museum - ECPv6.15.17//NONSGML v1.0//EN
CALSCALE:GREGORIAN
METHOD:PUBLISH
X-WR-CALNAME:Amersham Museum
X-ORIGINAL-URL:https://amershammuseum.org
X-WR-CALDESC:Events for Amersham Museum
REFRESH-INTERVAL;VALUE=DURATION:PT1H
X-Robots-Tag:noindex
X-PUBLISHED-TTL:PT1H
BEGIN:VTIMEZONE
TZID:Europe/London
BEGIN:DAYLIGHT
TZOFFSETFROM:+0000
TZOFFSETTO:+0100
TZNAME:BST
DTSTART:20250330T010000
END:DAYLIGHT
BEGIN:STANDARD
TZOFFSETFROM:+0100
TZOFFSETTO:+0000
TZNAME:GMT
DTSTART:20251026T010000
END:STANDARD
BEGIN:DAYLIGHT
TZOFFSETFROM:+0000
TZOFFSETTO:+0100
TZNAME:BST
DTSTART:20260329T010000
END:DAYLIGHT
BEGIN:STANDARD
TZOFFSETFROM:+0100
TZOFFSETTO:+0000
TZNAME:GMT
DTSTART:20261025T010000
END:STANDARD
BEGIN:DAYLIGHT
TZOFFSETFROM:+0000
TZOFFSETTO:+0100
TZNAME:BST
DTSTART:20270328T010000
END:DAYLIGHT
BEGIN:STANDARD
TZOFFSETFROM:+0100
TZOFFSETTO:+0000
TZNAME:GMT
DTSTART:20271031T010000
END:STANDARD
END:VTIMEZONE
BEGIN:VEVENT
DTSTART;TZID=Europe/London:20260328T113000
DTEND;TZID=Europe/London:20260412T160000
DTSTAMP:20260420T122727
CREATED:20260318T113932Z
LAST-MODIFIED:20260318T113932Z
UID:10000757-1774697400-1776009600@amershammuseum.org
SUMMARY:Easter Hunt - Family Trail
DESCRIPTION:Drop-in during museum opening hours* \n£2 (usual admission prices apply) \nHelp! Birds have escaped from our exhibition and hidden their eggs around the museum. Can you help us find them all? \nComplete a trail sheet to win a prize!
URL:https://amershammuseum.org/event/easter-hunt-family-trail/
LOCATION:Amersham Museum\, 49\, High Street\, Old Amersham\, HP7 0DP
CATEGORIES:Families
ATTACH;FMTTYPE=image/jpeg:https://amershammuseum.org/wp-content/uploads/2026/03/EasterTrail26-banner.jpg
GEO:51.6668644;-0.6183076
X-APPLE-STRUCTURED-LOCATION;VALUE=URI;X-ADDRESS=Amersham Museum 49 High Street Old Amersham HP7 0DP;X-APPLE-RADIUS=500;X-TITLE=49\, High Street:geo:-0.6183076,51.6668644
END:VEVENT
BEGIN:VEVENT
DTSTART;TZID=Europe/London:20260330T103000
DTEND;TZID=Europe/London:20260330T120000
DTSTAMP:20260420T122727
CREATED:20260224T154212Z
LAST-MODIFIED:20260304T173007Z
UID:10000731-1774866600-1774872000@amershammuseum.org
SUMMARY:Meet… and eat… the Rose Family!
DESCRIPTION: \n \n£8 per child (adults free and to stay for the duration) \nSuggested age 6 to 14 year olds\, but older or younger siblings very welcome \nJoin us for a fun\, hands-on family nature workshop exploring the amazing Rose Family! \nWe’ll start with a flower-sorting challenge\, thinking like scientists about how plants can be grouped. We’ll then take time to reflect on what we love about nature and create a colourful ‘What I Love About Nature’ keepsake. \nDiscover which of our favourite fruits are related to roses and learn how botanists spot plant family similarities. Children can even take a piece of fruit home (with parent permission). \nA relaxed\, creative session for curious families who enjoy exploring nature together. \nIn co-operation with Wild Amersham.
URL:https://amershammuseum.org/event/meet-and-eat-the-rose-family/
LOCATION:Amersham Museum\, 49\, High Street\, Old Amersham\, HP7 0DP
CATEGORIES:Families
ATTACH;FMTTYPE=image/jpeg:https://amershammuseum.org/wp-content/uploads/2026/02/Am-Museum-Garden-001.jpg
GEO:51.6668644;-0.6183076
X-APPLE-STRUCTURED-LOCATION;VALUE=URI;X-ADDRESS=Amersham Museum 49 High Street Old Amersham HP7 0DP;X-APPLE-RADIUS=500;X-TITLE=49\, High Street:geo:-0.6183076,51.6668644
END:VEVENT
BEGIN:VEVENT
DTSTART;TZID=Europe/London:20260330T133000
DTEND;TZID=Europe/London:20260330T150000
DTSTAMP:20260420T122727
CREATED:20260224T154352Z
LAST-MODIFIED:20260304T173042Z
UID:10000732-1774877400-1774882800@amershammuseum.org
SUMMARY:Meet… and eat… the Rose Family!
DESCRIPTION:£8 per child (adults free and to stay for the duration) \nSuggested age 6 to 14 year olds\, but older or younger siblings very welcome \nJoin us for a fun\, hands-on family nature workshop exploring the amazing Rose Family! \nWe’ll start with a flower-sorting challenge\, thinking like scientists about how plants can be grouped. We’ll then take time to reflect on what we love about nature and create a colourful ‘What I Love About Nature’ keepsake. \nDiscover which of our favourite fruits are related to roses and learn how botanists spot plant family similarities. Children can even take a piece of fruit home (with parent permission). \nA relaxed\, creative session for curious families who enjoy exploring nature together. \nIn co-operation with Wild Amersham. \n \n 
URL:https://amershammuseum.org/event/meet-and-eat-the-rose-family-2/
LOCATION:Amersham Museum\, 49\, High Street\, Old Amersham\, HP7 0DP
CATEGORIES:Families
ATTACH;FMTTYPE=image/jpeg:https://amershammuseum.org/wp-content/uploads/2026/02/Am-Museum-Garden-001.jpg
GEO:51.6668644;-0.6183076
X-APPLE-STRUCTURED-LOCATION;VALUE=URI;X-ADDRESS=Amersham Museum 49 High Street Old Amersham HP7 0DP;X-APPLE-RADIUS=500;X-TITLE=49\, High Street:geo:-0.6183076,51.6668644
END:VEVENT
END:VCALENDAR