BEGIN:VCALENDAR
VERSION:2.0
PRODID:-//Amersham Museum - ECPv6.15.17//NONSGML v1.0//EN
CALSCALE:GREGORIAN
METHOD:PUBLISH
X-ORIGINAL-URL:https://amershammuseum.org
X-WR-CALDESC:Events for Amersham Museum
REFRESH-INTERVAL;VALUE=DURATION:PT1H
X-Robots-Tag:noindex
X-PUBLISHED-TTL:PT1H
BEGIN:VTIMEZONE
TZID:Europe/London
BEGIN:DAYLIGHT
TZOFFSETFROM:+0000
TZOFFSETTO:+0100
TZNAME:BST
DTSTART:20250330T010000
END:DAYLIGHT
BEGIN:STANDARD
TZOFFSETFROM:+0100
TZOFFSETTO:+0000
TZNAME:GMT
DTSTART:20251026T010000
END:STANDARD
BEGIN:DAYLIGHT
TZOFFSETFROM:+0000
TZOFFSETTO:+0100
TZNAME:BST
DTSTART:20260329T010000
END:DAYLIGHT
BEGIN:STANDARD
TZOFFSETFROM:+0100
TZOFFSETTO:+0000
TZNAME:GMT
DTSTART:20261025T010000
END:STANDARD
BEGIN:DAYLIGHT
TZOFFSETFROM:+0000
TZOFFSETTO:+0100
TZNAME:BST
DTSTART:20270328T010000
END:DAYLIGHT
BEGIN:STANDARD
TZOFFSETFROM:+0100
TZOFFSETTO:+0000
TZNAME:GMT
DTSTART:20271031T010000
END:STANDARD
END:VTIMEZONE
BEGIN:VEVENT
DTSTART;TZID=Europe/London:20260414T100000
DTEND;TZID=Europe/London:20260414T113000
DTSTAMP:20260425T150607
CREATED:20251125T142632Z
LAST-MODIFIED:20260227T112621Z
UID:10000667-1776160800-1776166200@amershammuseum.org
SUMMARY:Singing Group
DESCRIPTION:Join us at our monthly session for a sing-a-long to much loved songs from the 20th century. Everyone is welcome\, and no musical experience is necessary. We sing for fun and as a sociable way to get together. \nThe FREE sessions are once a month on a Tuesday from 10am to 11.30am. Just drop in\, no need to book in advance. \nYou are very welcome to bring a family member\, friend or carer. The sessions are held in our first floor room\, but there is lift access. Please get in touch if you have any queries 01494 723700 or info@amershammuseum.org.
URL:https://amershammuseum.org/event/singing-group-10/
LOCATION:Amersham Museum\, 49\, High Street\, Old Amersham\, HP7 0DP
CATEGORIES:Older People,Adults
ATTACH;FMTTYPE=image/png:https://amershammuseum.org/wp-content/uploads/2021/08/singers.png
GEO:51.6668644;-0.6183076
X-APPLE-STRUCTURED-LOCATION;VALUE=URI;X-ADDRESS=Amersham Museum 49 High Street Old Amersham HP7 0DP;X-APPLE-RADIUS=500;X-TITLE=49\, High Street:geo:-0.6183076,51.6668644
END:VEVENT
END:VCALENDAR