BEGIN:VCALENDAR
VERSION:2.0
PRODID:-//Amersham Museum - ECPv6.15.17//NONSGML v1.0//EN
CALSCALE:GREGORIAN
METHOD:PUBLISH
X-ORIGINAL-URL:https://amershammuseum.org
X-WR-CALDESC:Events for Amersham Museum
REFRESH-INTERVAL;VALUE=DURATION:PT1H
X-Robots-Tag:noindex
X-PUBLISHED-TTL:PT1H
BEGIN:VTIMEZONE
TZID:Europe/London
BEGIN:DAYLIGHT
TZOFFSETFROM:+0000
TZOFFSETTO:+0100
TZNAME:BST
DTSTART:20250330T010000
END:DAYLIGHT
BEGIN:STANDARD
TZOFFSETFROM:+0100
TZOFFSETTO:+0000
TZNAME:GMT
DTSTART:20251026T010000
END:STANDARD
BEGIN:DAYLIGHT
TZOFFSETFROM:+0000
TZOFFSETTO:+0100
TZNAME:BST
DTSTART:20260329T010000
END:DAYLIGHT
BEGIN:STANDARD
TZOFFSETFROM:+0100
TZOFFSETTO:+0000
TZNAME:GMT
DTSTART:20261025T010000
END:STANDARD
BEGIN:DAYLIGHT
TZOFFSETFROM:+0000
TZOFFSETTO:+0100
TZNAME:BST
DTSTART:20270328T010000
END:DAYLIGHT
BEGIN:STANDARD
TZOFFSETFROM:+0100
TZOFFSETTO:+0000
TZNAME:GMT
DTSTART:20271031T010000
END:STANDARD
END:VTIMEZONE
BEGIN:VEVENT
DTSTART;TZID=Europe/London:20260505T190000
DTEND;TZID=Europe/London:20260505T210000
DTSTAMP:20260425T130304
CREATED:20260330T113730Z
LAST-MODIFIED:20260330T135922Z
UID:10000763-1778007600-1778014800@amershammuseum.org
SUMMARY:Talk: The Importance and Legacy of Tyndale’s Translation
DESCRIPTION:St Mary’s Church\, Old Amersham \n£5 suggested donation \nIn partnership with the Tyndale Society and St Mary’s Church\, we are marking Tyndale500\, the 500th anniversary of the first New Testament in English. \n500 years ago in 1526 William Tyndale published the first New Testament in English to ever be printed and the first to be translated from the original Greek.  His words and phraseology set a standard which continues today.   The famous Authorised Version owes much to his text\, and readers of Bibles in modern English still owe a great debt to Tyndale.  \nNeil Rees lives in a village near Chesham and works as a technology consultant for the Bible Society. He is Chairman of the Tyndale Society and writes a monthly local history page for the Bucks Free Press. \n  \nPlease make sure you have checked details before ordering tickets. It is necessary for the museum to charge a cancellation fee of £1 to cover credit card and administration costs. \n 
URL:https://amershammuseum.org/event/the-importance-and-legacy-of-tyndales-translation/
LOCATION:St Mary’s Church\, Old Amersham\, Church St\, Old AMERSHAM\, Bucks\, HP7 0DB\, United Kingdom
CATEGORIES:Adults,Talks
ATTACH;FMTTYPE=image/jpeg:https://amershammuseum.org/wp-content/uploads/2026/03/Amersham.jpg
END:VEVENT
END:VCALENDAR